BEGIN:VCALENDAR
VERSION:2.0
PRODID:-//AudioTheme 1.8.2
BEGIN:VEVENT
UID:http://www.thewaterfrontfilms.com/?post_type=audiotheme_gig&#038;p=550
URL:https://www.thewaterfrontfilms.com/shows/coming-soon/
DTSTART;TZID=GMT:19900813T000000
SUMMARY:Coming Soon
DESCRIPTION:Coming Soon
LOCATION:Vallejo
END:VEVENT
END:VCALENDAR