BEGIN:VCALENDAR
VERSION:2.0
PRODID:-//AudioTheme 1.8.2
BEGIN:VEVENT
UID:http://www.thewaterfrontfilms.com/?post_type=audiotheme_gig&#038;p=927
URL:https://www.thewaterfrontfilms.com/shows/2019-05-24/
DTSTART;TZID=GMT:20190524T000000
SUMMARY:Our Lady Of 121st by Stephen Adly Gurguis
LOCATION:Stella Adler
END:VEVENT
END:VCALENDAR