BEGIN:VCALENDAR
VERSION:2.0
PRODID:-//AudioTheme 1.8.2
BEGIN:VEVENT
UID:http://www.thewaterfrontfilms.com/?post_type=audiotheme_gig&#038;p=594
URL:https://www.thewaterfrontfilms.com/shows/2015-11-21/
DTSTART;TZID=GMT:20151121T000000
SUMMARY:ODGANG Exclusionary Performance
DESCRIPTION:ODGang will be at Chris' Club in Vallejo with a Performance by Roy Ry
LOCATION:Chris' Club Vallejo
END:VEVENT
END:VCALENDAR